View In:
ArcGIS JavaScript
ArcGIS Online Map Viewer
ArcGIS Earth
Service Description: BaseMaps/2016_Aerial_Imagery_Monterey
Name: BaseMaps/2016_Aerial_Imagery_Monterey
Description:
Single Fused Map Cache: false
Extent:
XMin: 5686455.0
YMin: 2066079.0
XMax: 5773575.0
YMax: 2161119.0
Spatial Reference: 102644
(2228)
LatestVCSWkid(0)
Initial Extent:
XMin: 5686455.0
YMin: 2066079.0
XMax: 5773575.0
YMax: 2161119.0
Spatial Reference: 102644
(2228)
LatestVCSWkid(0)
Full Extent:
XMin: 5686455.0
YMin: 2066079.0
XMax: 5773575.0
YMax: 2161119.0
Spatial Reference: 102644
(2228)
LatestVCSWkid(0)
Pixel Size X: 0.25
Pixel Size Y: 0.25
Band Count: 3
Pixel Type: U8
RasterFunction Infos: {"rasterFunctionInfos": [{
"name": "None",
"description": "",
"help": ""
}]}
Mensuration Capabilities: Basic
Inspection Capabilities:
Has Histograms: true
Has Colormap: false
Has Multi Dimensions : false
Rendering Rule:
Min Scale: 0
Max Scale: 0
Resampling: false
Copyright Text:
Service Data Type: esriImageServiceDataTypeRGB
Min Values: 0, 18, 10
Max Values: 255, 255, 255
Mean Values: 198.8935983996, 195.55738934734, 184.88584646162
Standard Deviation Values: 67.629610730742, 69.95991704029, 81.624942603601
Object ID Field:
Fields:
None
Default Mosaic Method: Center
Allowed Mosaic Methods:
SortField:
SortValue: null
Mosaic Operator: First
Default Compression Quality: 75
Default Resampling Method: Bilinear
Max Record Count: null
Max Image Height: 4100
Max Image Width: 15000
Max Download Image Count: null
Max Mosaic Image Count: null
Allow Raster Function: true
Allow Copy: true
Allow Analysis: true
Allow Compute TiePoints: false
Supports Statistics: false
Supports Advanced Queries: false
Use StandardizedQueries: true
Raster Type Infos:
Name: Raster Dataset
Description: Supports all ArcGIS Raster Datasets
Help:
Has Raster Attribute Table: false
Edit Fields Info: null
Ownership Based AccessControl For Rasters: null
Child Resources:
Info
Histograms
Statistics
Key Properties
Legend
Raster Function Infos
Supported Operations:
Export Image
Identify
Measure
Compute Histograms
Compute Statistics Histograms
Get Samples
Compute Class Statistics
Query Boundary
Compute Pixel Location
Compute Angles
Validate
Project