{
 "currentVersion": 11.5,
 "serviceDescription": "BaseMaps/2016_Aerial_Imagery_Monterey",
 "serviceItemId": "f4ce1a596a9d48d0884f1617f5c16e00",
 "name": "BaseMaps/2016_Aerial_Imagery_Monterey",
 "description": "",
 "extent": {
  "xmin": 5686455,
  "ymin": 2066079,
  "xmax": 5773575,
  "ymax": 2161119,
  "spatialReference": {
   "wkid": 102644,
   "latestWkid": 2228
  }
 },
 "initialExtent": {
  "xmin": 5686455,
  "ymin": 2066079,
  "xmax": 5773575,
  "ymax": 2161119,
  "spatialReference": {
   "wkid": 102644,
   "latestWkid": 2228
  }
 },
 "fullExtent": {
  "xmin": 5686455,
  "ymin": 2066079,
  "xmax": 5773575,
  "ymax": 2161119,
  "spatialReference": {
   "wkid": 102644,
   "latestWkid": 2228
  }
 },
 "sortableFields": "",
 "bandCount": 3,
 "pixelType": "U8",
 "minValues": [
  0,
  18,
  10
 ],
 "maxValues": [
  255,
  255,
  255
 ],
 "meanValues": [
  198.8935983996,
  195.55738934734,
  184.88584646162
 ],
 "stdvValues": [
  67.629610730742,
  69.95991704029,
  81.624942603601
 ],
 "serviceProperties": "Center<\/MosaicMethod>First<\/MosaicOperator>true<\/SortAscending><\/LockImageID><\/TileOrderField>0<\/TileOrderBase>0.000000<\/AvgImageSpacingX>0.000000<\/AvgImageSpacingY>0.0<\/ViewPointX>0.0<\/ViewPointY>0.0<\/ViewPointDefShiftX>0.0<\/ViewPointDefShiftY>None<\/CompressionMethod>75<\/CompressionQuality>0.010000<\/CompressionTolerance>Bilinear<\/SamplingMethod><\/ImageServiceProperties><\/ImageServer>",
 "allowedFields": "",
 "hasMultidimensions": false,
 "pixelSizeX": 0.25,
 "pixelSizeY": 0.25,
 "meanPixelSize": 0.07620015240030481,
 "datasetFormat": "MrSID",
 "uncompressedSize": 397434470400,
 "blockWidth": 1024,
 "blockHeight": 128,
 "compressionType": "Wavelet (MG3)",
 "bandNames": [
  "Band_1",
  "Band_2",
  "Band_3"
 ],
 "allowCopy": true,
 "allowAnalysis": true,
 "itemAccess": false,
 "inspectionCapabilities": "",
 "minPixelSize": 0,
 "maxPixelSize": 0,
 "copyrightText": "",
 "serviceDataType": "esriImageServiceDataTypeRGB",
 "serviceSourceType": "esriImageServiceSourceTypeDataset",
 "objectIdField": "",
 "fields": [],
 "capabilities": "Mensuration,Image,Metadata",
 "defaultMosaicMethod": "Center",
 "allowedMosaicMethods": "",
 "sortField": "",
 "sortValue": null,
 "sortAscending": true,
 "mosaicOperator": "First",
 "defaultCompressionQuality": 75,
 "defaultResamplingMethod": "Bilinear",
 "maxImageHeight": 4100,
 "maxImageWidth": 15000,
 "allowRasterFunction": true,
 "rasterFunctionInfos": [
  {
   "name": "None",
   "description": "",
   "help": ""
  }
 ],
 "rasterTypeInfos": [
  {
   "name": "Raster Dataset",
   "description": "Supports all ArcGIS Raster Datasets",
   "help": ""
  }
 ],
 "mensurationCapabilities": "Basic",
 "hasHistograms": true,
 "hasColormap": false,
 "hasRasterAttributeTable": false,
 "minScale": 0,
 "maxScale": 0,
 "exportTilesAllowed": false,
 "supportsStatistics": false,
 "supportsAdvancedQueries": false,
 "editFieldsInfo": null,
 "ownershipBasedAccessControlForRasters": null,
 "allowComputeTiePoints": false,
 "useStandardizedQueries": true,
 "advancedQueryCapabilities": {
  "useStandardizedQueries": true,
  "supportsStatistics": false,
  "supportsOrderBy": false,
  "supportsDistinct": false,
  "supportsPagination": false
 },
 "spatialReference": {
  "wkid": 102644,
  "latestWkid": 2228
 },
 "resampling": false
}
